BEGIN:VCALENDAR
VERSION:2.0
PRODID:gruene-heilbronn.de
METHOD:PUBLISH
BEGIN:VTIMEZONE
TZID:Europe/Berlin
X-LIC-LOCATION:Europe/Berlin
BEGIN:DAYLIGHT
TZOFFSETFROM:+0100
TZOFFSETTO:+0200
TZNAME:CEST
DTSTART:19700329T020000
RRULE:FREQ=YEARLY;INTERVAL=1;BYDAY=-1SU;BYMONTH=3
END:DAYLIGHT
BEGIN:STANDARD
TZOFFSETFROM:+0200
TZOFFSETTO:+0100
TZNAME:CET
DTSTART:19701025T030000
RRULE:FREQ=YEARLY;INTERVAL=1;BYDAY=-1SU;BYMONTH=10
END:STANDARD
END:VTIMEZONE
BEGIN:VEVENT
UID:52aa99f5b7479af43810158fb6a5176a@gruene-heilbronn.de
URL;VALUE=URI:https://gruene-heilbronn.de/termine/info-veranstaltung-mit-
 michael-bloss-mdep/
LOCATION:Stadthalle Lauffen / Poetensaal, Charlottenstraße 89, 74348 Lau
 ffen am Neckar
SUMMARY:Info-Veranstaltung mit Michael Bloss, MdEP
DESCRIPTION;ALTREP="data:text/html,%0A%3Cp%3ELiebe%20Freund%2Ainnen%2C%C2
 %A0%3C%2Fp%3E%0A%0A%0A%0A%3Cp%3EEuropa%20oder%20Lauffen%3F%20Wo%20findet%
 20die%20Energiewende%20statt%3FEurop%C3%A4ische%20Regelungen%20zur%20Umse
 tzung%20der%20Energiewende%20m%C3%BCssen%20auch%20f%C3%BCr%20uns%20Mensch
 en%20vor%20Ort%20in%20den%20einzelnen%20Gemeinden%20umsetzbar%20sein.%20D
 ie%20Akzeptanz%20der%20Energiewende%20braucht%20es%20dort%2C%20wo%20sie%2
 0umgesetzt%20wird%20und%20die%20einzelnen%20Menschen%20betrifft.Michael%2
 0wird%20einen%20Impulsvortrag%20geben.%20Wir%20erhalten%20Informationen%2
 0zum%20Thema%20Windenergie%20und%20den%20Umgang%20mit%20den%20Gegner%2Ain
 nen%20von%20Windr%C3%A4ndern%20sowie%20zu%20den%20verschiedenen%20Ebenen%
 20und%20Entscheidungsstufen%20zwischen%20dem%20Europaparlament%20und%20de
 r%20Stadt.%20Dabei%20wird%20es%20auch%20um%20die%20soziale%20Gerechtigkei
 t%20der%20Energiewende%20gehen.%C2%A0Danach%20seid%20ihr%20sehr%20herzlic
 h%20eingeladen%2C%20in%20die%20Diskussion%20zu%20gehen.%20Stellt%20Fragen
 %2C%20die%20euch%20schon%20lange%20oder%20auch%20erst%20seit%20Kurzem%20b
 esch%C3%A4ftigen.%20%3C%2Fp%3E%0A%0A%0A%0A%3Cp%3EBringt%20euch%20gerne%20
 ein%20als%20B%C3%BCrger%2Ainnen%20vor%20Ort.%3C%2Fp%3E%0A%0A%0A%0A%3Cp%3E
 Erwin%20K%C3%B6hler%2C%20MdL%20und%20der%20OV%20Neckar-Schozach%20freuen%
 20sich%20auf%20euch%21%3C%2Fp%3E%0A":Liebe Freund*innen\, \n\nEuropa ode
 r Lauffen? Wo findet die Energiewende statt?Europäische Regelungen zur U
 msetzung der Energiewende müssen auch für uns Menschen vor Ort in den e
 inzelnen Gemeinden umsetzbar sein. Die Akzeptanz der Energiewende braucht
  es dort\, wo sie umgesetzt wird und die einzelnen Menschen betrifft.Mich
 ael wird einen Impulsvortrag geben. Wir erhalten Informationen zum Thema 
 Windenergie und den Umgang mit den Gegner*innen von Windrändern sowie zu
  den verschiedenen Ebenen und Entscheidungsstufen zwischen dem Europaparl
 ament und der Stadt. Dabei wird es auch um die soziale Gerechtigkeit der 
 Energiewende gehen. Danach seid ihr sehr herzlich eingeladen\, in die Di
 skussion zu gehen. Stellt Fragen\, die euch schon lange oder auch erst se
 it Kurzem beschäftigen.\n\nBringt euch gerne ein als Bürger*innen vor O
 rt.\n\nErwin Köhler\, MdL und der OV Neckar-Schozach freuen sich auf euc
 h!
CLASS:PUBLIC
DTSTART;TZID=Europe/Berlin:20240429T190000
DTEND;TZID=Europe/Berlin:20240429T190000
DTSTAMP:20260421T095015
END:VEVENT
END:VCALENDAR