BEGIN:VCALENDAR
VERSION:2.0
PRODID:gruene-heilbronn.de
METHOD:PUBLISH
BEGIN:VTIMEZONE
TZID:Europe/Berlin
X-LIC-LOCATION:Europe/Berlin
BEGIN:DAYLIGHT
TZOFFSETFROM:+0100
TZOFFSETTO:+0200
TZNAME:CEST
DTSTART:19700329T020000
RRULE:FREQ=YEARLY;INTERVAL=1;BYDAY=-1SU;BYMONTH=3
END:DAYLIGHT
BEGIN:STANDARD
TZOFFSETFROM:+0200
TZOFFSETTO:+0100
TZNAME:CET
DTSTART:19701025T030000
RRULE:FREQ=YEARLY;INTERVAL=1;BYDAY=-1SU;BYMONTH=10
END:STANDARD
END:VTIMEZONE
BEGIN:VEVENT
UID:41238ea9113821a9cc0f9900ff9ff698@gruene-heilbronn.de
URL;VALUE=URI:https://gruene-heilbronn.de/termine/kv-ov-workshop/
LOCATION:
SUMMARY:KV-OV Workshop
DESCRIPTION;ALTREP="data:text/html,%0A%3Cfigure%20class%3D%22wp-block-ima
 ge%20size-large%22%3E%3Cimg%20src%3D%22https%3A%2F%2Fgruene-heilbronn.de%
 2Fwp-content%2Fuploads%2Fsites%2F181%2F2026%2F04%2FKV-OV-Workshop1-800x10
 00.png%22%20alt%3D%22%22%20class%3D%22wp-image-5399%22%20%2F%3E%3Cfigcapt
 ion%3EKGS%20Heilbronn%3C%2Ffigcaption%3E%3C%2Ffigure%3E%0A%0A%0A%0A%3Cp%3
 EDer%20Workshop%20richtet%20sich%20an%20alle%20unsere%20Ortsverb%C3%A4nde
 %20und%20folgende%20Themen%20werden%20angeboten%3A%20Kommunikation%20%26a
 mp%3B%20Organisation%3B%20OV%20Vernetzung%3B%20Pr%C3%A4senz%20%26amp%3B%2
 0Auftreten%3B%20Social%20Media%3B%20Pressearbeit%3B%20Vorbereitung%20auf%
 20die%20Kommunalwahlen%3C%2Fp%3E%0A%0A%0A%0A%3Cp%3EWir%20freuen%20uns%20a
 uf%20euch%21%3Cbr%3EEuer%20Kreisvorstand%3C%2Fp%3E%0A%0A%0A%0A%3Cp%3E%3Ce
 m%3EVeranstaltungsort%20und%20alle%20weiteren%20Infos%20werden%20noch%20a
 uf%20den%20g%C3%A4ngigen%20Wegen%20an%20alle%20Mitglieder%20kommuniziert.
 %20%3C%2Fem%3E%3C%2Fp%3E%0A%0A%0A%0A%3Cp%3E%3C%2Fp%3E%0A":KGS Heilbronn\n
 \nDer Workshop richtet sich an alle unsere Ortsverbände und folgende The
 men werden angeboten: Kommunikation & Organisation\; OV Vernetzung\; Prä
 senz & Auftreten\; Social Media\; Pressearbeit\; Vorbereitung auf die Kom
 munalwahlen\n\nWir freuen uns auf euch!Euer Kreisvorstand\n\nVeranstaltun
 gsort und alle weiteren Infos werden noch auf den gängigen Wegen an alle
  Mitglieder kommuniziert.
CLASS:PUBLIC
DTSTART;TZID=Europe/Berlin:20260613T100000
DTEND;TZID=Europe/Berlin:20260613T140000
DTSTAMP:20260424T140153
END:VEVENT
END:VCALENDAR