BEGIN:VCALENDAR
VERSION:2.0
PRODID:gruene-heilbronn.de
METHOD:PUBLISH
BEGIN:VTIMEZONE
TZID:Europe/Berlin
X-LIC-LOCATION:Europe/Berlin
BEGIN:DAYLIGHT
TZOFFSETFROM:+0100
TZOFFSETTO:+0200
TZNAME:CEST
DTSTART:19700329T020000
RRULE:FREQ=YEARLY;INTERVAL=1;BYDAY=-1SU;BYMONTH=3
END:DAYLIGHT
BEGIN:STANDARD
TZOFFSETFROM:+0200
TZOFFSETTO:+0100
TZNAME:CET
DTSTART:19701025T030000
RRULE:FREQ=YEARLY;INTERVAL=1;BYDAY=-1SU;BYMONTH=10
END:STANDARD
END:VTIMEZONE
BEGIN:VEVENT
UID:51e81e134c7b3146efe86e1ce9b328dc@gruene-heilbronn.de
URL;VALUE=URI:https://gruene-heilbronn.de/termine/mit-mdl-gudula-achterbe
 rg-im-gespraech/
LOCATION:Grünes Wahlkreisbüro, Kaiserstr. 17, Heilbronn
SUMMARY:Mit MdL Gudula Achterberg im Gespräch
DESCRIPTION;ALTREP="data:text/html,%0A%3Cp%3EZur%20Sprechstunde%20l%C3%A4
 dt%20die%20Heilbronner%20Landtagsabgeordnete%20Gudula%20Achterberg%2C%20a
 m%20Donnerstag%2C%208.%20Februar%2C%20ein%3A%20Von%2016%20bis%2018%20Uhr%
 20nimmt%20sich%20die%20Abgeordnete%20der%20Gr%C3%BCnen%20Zeit%20f%C3%BCr%
 20die%20Anliegen%20und%20Fragen%20der%20B%C3%BCrger%2Ainnen.%20Wer%20Gesp
 r%C3%A4chsbedarf%20hat%2C%20ist%20herzlich%20eingeladen%20in%20die%20Kais
 erstra%C3%9Fe%2017%2C%2074072%20Heilbronn.%20Ohne%20Anmeldung.%3C%2Fp%3E%
 0A":Zur Sprechstunde lädt die Heilbronner Landtagsabgeordnete Gudula Ach
 terberg\, am Donnerstag\, 8. Februar\, ein: Von 16 bis 18 Uhr nimmt sich 
 die Abgeordnete der Grünen Zeit für die Anliegen und Fragen der Bürger
 *innen. Wer Gesprächsbedarf hat\, ist herzlich eingeladen in die Kaisers
 traße 17\, 74072 Heilbronn. Ohne Anmeldung.
CLASS:PUBLIC
DTSTART;TZID=Europe/Berlin:20240208T160000
DTEND;TZID=Europe/Berlin:20240208T180000
DTSTAMP:20260420T182612
END:VEVENT
END:VCALENDAR