BEGIN:VCALENDAR
VERSION:2.0
PRODID:gruene-heilbronn.de
METHOD:PUBLISH
BEGIN:VTIMEZONE
TZID:Europe/Berlin
X-LIC-LOCATION:Europe/Berlin
BEGIN:DAYLIGHT
TZOFFSETFROM:+0100
TZOFFSETTO:+0200
TZNAME:CEST
DTSTART:19700329T020000
RRULE:FREQ=YEARLY;INTERVAL=1;BYDAY=-1SU;BYMONTH=3
END:DAYLIGHT
BEGIN:STANDARD
TZOFFSETFROM:+0200
TZOFFSETTO:+0100
TZNAME:CET
DTSTART:19701025T030000
RRULE:FREQ=YEARLY;INTERVAL=1;BYDAY=-1SU;BYMONTH=10
END:STANDARD
END:VTIMEZONE
BEGIN:VEVENT
UID:df582bea1fddc7dc5ee8f12acc63ea54@gruene-heilbronn.de
URL;VALUE=URI:https://gruene-heilbronn.de/termine/pflaenzlesmarkt-2026/
LOCATION:Marktplatz Leingarten, Heilbronner Str. 38, Leingarten
SUMMARY:Pflänzlesmarkt 2026
DESCRIPTION;ALTREP="data:text/html,%0A%3Ch2%20class%3D%22wp-block-heading
 %20has-tanne-color%20has-text-color%20has-link-color%20wp-elements-798f37
 06b44f9c7caad06a8c68068e8e%22%3EHerzliche%20Einladung%20zum%20Pfl%C3%A4nz
 lesmarkt%20am%208.%20Mai%202026%3C%2Fh2%3E%0A%0A%0A%0A%3Cp%3EDieses%20Jah
 r%20findet%20unser%20Pfl%C3%A4nzlesmarkt%20bereits%20einige%20Tage%20vor%
 20der%20letzten%20Eisheiligen%20%E2%80%9E%3Ca%20href%3D%22https%3A%2F%2Fd
 e.wikipedia.org%2Fwiki%2FEisheilige%22%20data-type%3D%22link%22%20data-id
 %3D%22https%3A%2F%2Fde.wikipedia.org%2Fwiki%2FEisheilige%22%20target%3D%2
 2_blank%22%20rel%3D%22noreferrer%20noopener%20nofollow%22%3EKalte%20Sophi
 e%3C%2Fa%3E%E2%80%9C%20statt%2C%20und%20zwar%20am%20%3Cstrong%3EFreitag%2
 C%208.%20Mai%202026%20von%209%20bis%2012%20Uhr%20vor%20dem%20Rathaus%3C%2
 Fstrong%3E.%20%3C%2Fp%3E%0A%0A%0A%0A%3Cfigure%20class%3D%22wp-block-image
 %20size-large%22%3E%3Cimg%20src%3D%22https%3A%2F%2Fgruene-heilbronn.de%2F
 wp-content%2Fuploads%2Fsites%2F181%2F2026%2F04%2Fimage001-800x1067.jpg%22
 %20alt%3D%22Gurken%20%26amp%3B%20Zucchini%20-%20Setzlinge%20f%C3%BCr%20de
 n%20Pfl%C3%A4nzlesmarkt%22%20class%3D%22wp-image-5391%22%20style%3D%22asp
 ect-ratio%3A16%2F9%3Bobject-fit%3Acover%22%20title%3D%22Gurken%20und%20Zu
 cchini%20wachsen%20schon%20kr%C3%A4ftig%20und%20werden%20bald%20pikiert.%
 20Foto%3A%20Brigitte%20Wolf%22%20%2F%3E%3Cfigcaption%20class%3D%22wp-elem
 ent-caption%22%3EFoto%3A%20Brigitte%20Wolf%20%7C%20Gurken%20und%20Zucchin
 i%20wachsen%20schon%20kr%C3%A4ftig%20und%20werden%20bald%20pikiert.%3C%2F
 figcaption%3E%3C%2Ffigure%3E%0A%0A%0A%0A%3Cp%3EWie%20es%20schon%20jahrzeh
 ntelange%20Tradition%20ist%2C%20k%C3%B6nnen%20Sie%20Pflanzen%2C%20Setzlin
 ge%2C%20Stauden%20usw.%20kaufen%2C%20verkaufen%20oder%20verschenken.%20Ei
 n%20etwaiger%20Erl%C3%B6s%20wird%20f%C3%BCr%20das%20%3Cstrong%3E%3Ca%20hr
 ef%3D%22https%3A%2F%2Fgruene-heilbronn.de%2F2025%2F10%2F13%2Fkinderferien
 programm-der-gruenen%2F%22%20data-type%3D%22post%22%20data-id%3D%224181%2
 2%3EKinderferienprogramm%3C%2Fa%3E%3C%2Fstrong%3E%20verwendet.%20Kommen%2
 0Sie%20einfach%20vorbei%20mit%20Ihrem%20Gartengut%20%28auch%20Zimmerpflan
 zen%20sind%20m%C3%B6glich%29%20und%20lassen%20sich%20%C3%BCberraschen%2C%
 20welches%20Angebot%20Sie%20erwartet.%20%3C%2Fp%3E%0A%0A%0A%0A%3Ch2%20cla
 ss%3D%22wp-block-heading%20has-tanne-color%20has-text-color%20has-link-co
 lor%20wp-elements-5490cdf7397ec329ba71ab6c87060e2e%22%3EWir%20freuen%20un
 s%20auf%20Sie%21%3C%2Fh2%3E%0A%0A%0A%0A%3Cdiv%20class%3D%22wp-block-butto
 ns%20alignwide%20is-content-justification-space-between%20is-layout-flex%
 20wp-container-core-buttons-is-layout-3d213aab%20wp-block-buttons-is-layo
 ut-flex%22%3E%0A%3Cdiv%20class%3D%22wp-block-button%22%3E%3Ca%20class%3D%
 22wp-block-button__link%20wp-element-button%22%20href%3D%22https%3A%2F%2F
 gruene-heilbronn.de%2Fgruene-leingarten%2F%22%3ESTARTSEITE%3C%2Fa%3E%3C%2
 Fdiv%3E%0A%0A%0A%0A%3Cdiv%20class%3D%22wp-block-button%22%3E%3Ca%20class%
 3D%22wp-block-button__link%20wp-element-button%22%20href%3D%22https%3A%2F
 %2Fgruene-heilbronn.de%2Fvorstandsteam-ortsverband-leingarten%2F%22%3EOrt
 svorstand%3C%2Fa%3E%3C%2Fdiv%3E%0A%0A%0A%0A%3Cdiv%20class%3D%22wp-block-b
 utton%22%3E%3Ca%20class%3D%22wp-block-button__link%20wp-element-button%22
 %20href%3D%22https%3A%2F%2Fgruene-heilbronn.de%2Fgemeinderaetinnen-leinga
 rten-neu%2F%22%3EGemeinderat%3C%2Fa%3E%3C%2Fdiv%3E%0A%0A%0A%0A%3Cdiv%20cl
 ass%3D%22wp-block-button%22%3E%3Ca%20class%3D%22wp-block-button__link%20w
 p-element-button%22%20href%3D%22https%3A%2F%2Fgruene-heilbronn.de%2Fgruen
 e-leingarten%2F%23news%22%3ENews%3C%2Fa%3E%3C%2Fdiv%3E%0A%0A%0A%0A%3Cdiv%
 20class%3D%22wp-block-button%22%3E%3Ca%20class%3D%22wp-block-button__link
 %20wp-element-button%22%20href%3D%22https%3A%2F%2Fgruene-heilbronn.de%2Fk
 ontakt-ov-leingarten%2F%22%3EKontakt%3C%2Fa%3E%3C%2Fdiv%3E%0A%0A%0A%0A%3C
 div%20class%3D%22wp-block-button%22%3E%3Ca%20class%3D%22wp-block-button__
 link%20wp-element-button%22%20href%3D%22https%3A%2F%2Fgruene-heilbronn.de
 %2Ftermine%2F%23ov-leingarten%22%3ETermine%3C%2Fa%3E%3C%2Fdiv%3E%0A%3C%2F
 div%3E%0A%0A%0A%0A%3Cp%3E%3C%2Fp%3E%0A":Herzliche Einladung zum Pflänzle
 smarkt am 8. Mai 2026\n\nDieses Jahr findet unser Pflänzlesmarkt bereits
  einige Tage vor der letzten Eisheiligen „Kalte Sophie“ statt\, und z
 war am Freitag\, 8. Mai 2026 von 9 bis 12 Uhr vor dem Rathaus.\n\nFoto: B
 rigitte Wolf | Gurken und Zucchini wachsen schon kräftig und werden bald
  pikiert.\n\nWie es schon jahrzehntelange Tradition ist\, können Sie Pfl
 anzen\, Setzlinge\, Stauden usw. kaufen\, verkaufen oder verschenken. Ein
  etwaiger Erlös wird für das Kinderferienprogramm verwendet. Kommen Sie
  einfach vorbei mit Ihrem Gartengut (auch Zimmerpflanzen sind möglich) u
 nd lassen sich überraschen\, welches Angebot Sie erwartet.\n\nWir freuen
  uns auf Sie!\n\nSTARTSEITE\n\nOrtsvorstand\n\nGemeinderat\n\nNews\n\nKon
 takt\n\nTermine
CLASS:PUBLIC
DTSTART;TZID=Europe/Berlin:20260508T090000
DTEND;TZID=Europe/Berlin:20260508T120000
DTSTAMP:20260421T112342
END:VEVENT
END:VCALENDAR