BEGIN:VCALENDAR
VERSION:2.0
PRODID:gruene-heilbronn.de
METHOD:PUBLISH
BEGIN:VTIMEZONE
TZID:Europe/Berlin
X-LIC-LOCATION:Europe/Berlin
BEGIN:DAYLIGHT
TZOFFSETFROM:+0100
TZOFFSETTO:+0200
TZNAME:CEST
DTSTART:19700329T020000
RRULE:FREQ=YEARLY;INTERVAL=1;BYDAY=-1SU;BYMONTH=3
END:DAYLIGHT
BEGIN:STANDARD
TZOFFSETFROM:+0200
TZOFFSETTO:+0100
TZNAME:CET
DTSTART:19701025T030000
RRULE:FREQ=YEARLY;INTERVAL=1;BYDAY=-1SU;BYMONTH=10
END:STANDARD
END:VTIMEZONE
BEGIN:VEVENT
UID:4ee7a7d5aed8025dff5900daf40b3b33@gruene-heilbronn.de
URL;VALUE=URI:https://gruene-heilbronn.de/termine/woche-der-demokratie/
LOCATION:Neckarsulm
SUMMARY:Woche der Demokratie
DESCRIPTION;ALTREP="data:text/html,%0A%3Cfigure%20class%3D%22wp-block-ima
 ge%20size-large%22%3E%3Ca%20href%3D%22https%3A%2F%2Fwww.neckarsulm.de%2Fs
 tartseite%2Fwillkommen%2Fwoche%2Bder%2Bdemokratie.html%22%3E%3Cimg%20src%
 3D%22https%3A%2F%2Fgruene-heilbronn.de%2Fwp-content%2Fuploads%2Fsites%2F1
 81%2F2026%2F04%2FIMG_9098-750x1200.jpg%22%20alt%3D%22%22%20class%3D%22wp-
 image-5395%22%20%2F%3E%3C%2Fa%3E%3C%2Ffigure%3E%0A":
CLASS:PUBLIC
DTSTART;TZID=Europe/Berlin:20260505
DTEND;TZID=Europe/Berlin:20260512
DTSTAMP:20260423T135706
END:VEVENT
END:VCALENDAR